BEGIN:VCALENDAR
VERSION:2.0
PRODID:-//North Texas Gun Training - ECPv6.15.20//NONSGML v1.0//EN
CALSCALE:GREGORIAN
METHOD:PUBLISH
X-WR-CALNAME:North Texas Gun Training
X-ORIGINAL-URL:https://ntxguntraining.com
X-WR-CALDESC:Events for North Texas Gun Training
REFRESH-INTERVAL;VALUE=DURATION:PT1H
X-Robots-Tag:noindex
X-PUBLISHED-TTL:PT1H
BEGIN:VTIMEZONE
TZID:America/Denver
BEGIN:DAYLIGHT
TZOFFSETFROM:-0700
TZOFFSETTO:-0600
TZNAME:MDT
DTSTART:20240310T090000
END:DAYLIGHT
BEGIN:STANDARD
TZOFFSETFROM:-0600
TZOFFSETTO:-0700
TZNAME:MST
DTSTART:20241103T080000
END:STANDARD
BEGIN:DAYLIGHT
TZOFFSETFROM:-0700
TZOFFSETTO:-0600
TZNAME:MDT
DTSTART:20250309T090000
END:DAYLIGHT
BEGIN:STANDARD
TZOFFSETFROM:-0600
TZOFFSETTO:-0700
TZNAME:MST
DTSTART:20251102T080000
END:STANDARD
BEGIN:DAYLIGHT
TZOFFSETFROM:-0700
TZOFFSETTO:-0600
TZNAME:MDT
DTSTART:20260308T090000
END:DAYLIGHT
BEGIN:STANDARD
TZOFFSETFROM:-0600
TZOFFSETTO:-0700
TZNAME:MST
DTSTART:20261101T080000
END:STANDARD
BEGIN:DAYLIGHT
TZOFFSETFROM:-0700
TZOFFSETTO:-0600
TZNAME:MDT
DTSTART:20270314T090000
END:DAYLIGHT
BEGIN:STANDARD
TZOFFSETFROM:-0600
TZOFFSETTO:-0700
TZNAME:MST
DTSTART:20271107T080000
END:STANDARD
END:VTIMEZONE
BEGIN:VEVENT
DTSTART;TZID=America/Denver:20260221T120000
DTEND;TZID=America/Denver:20260221T220000
DTSTAMP:20260421T135944
CREATED:20260125T015046Z
LAST-MODIFIED:20260125T015046Z
UID:7235-1771675200-1771711200@ntxguntraining.com
SUMMARY:Low Light Rifle
DESCRIPTION:Class is limited to 10 students with two instructors to insure you get the attention and coaching you deserve. We prefer quality over quantity. \n(Prerequisite Level I Defensive Rifle or other approved training) \n\n\n\n\nCourse Includes\n\n\n\n\n\nShooting without any gun light\nUse of gun lights (light not required)\nClose to 100 yards\nManipulation of rifle without artificial light\nTwo-man tactics\nNight vision welcome but not needed. (You will get to try our night vision)\n\nClass is $250.00. A non-refundable deposit of $100.00 is required. Deposit can transfer to another date or class. \n\nBuy now
URL:https://ntxguntraining.com/class/low-light-rifle/
LOCATION:North Texas Gun Training Range\, 449 County Road 1220\, Cumby\, TX\, 75433\, United States
END:VEVENT
BEGIN:VEVENT
DTSTART;TZID=America/Denver:20251122T110000
DTEND;TZID=America/Denver:20251122T210000
DTSTAMP:20260421T135944
CREATED:20250901T181739Z
LAST-MODIFIED:20251204T040645Z
UID:7222-1763809200-1763845200@ntxguntraining.com
SUMMARY:Shooting from Concealment & Low Light
DESCRIPTION:Classes is led by experienced Licensed Police Firearms Instructors with over 29 years of experience.\nThis class will be held at our other location North Texas Gun Training 20 minutes east of Greenville\, Texas. \n60% of violent crimes occur in hours of darkness\, how often do you shoot in the dark?  This class teaches you techniques to clear and draw your weapon from wherever you conceal it.  It instills you with low light and no light shooting tactics and principles to prepare you for the reality of such circumstances\, armed with confidence and the ability to win! \n(Prerequisite:  Must have completed Level I Defensive Handgun or other approved training) \n\n\nCourse Includes\n\n\n\n\n\nDrawing your gun from concealment\nStrong / cross-draw / shoulder / fanny-pack / waistband / purse\, pocket / ankle\, etc…\nUse all your concealment products and try ours!\nLive fire exercises from concealment\nLow light & no light techniques with live fire / flashlight techniques\n\nClass is $250.00 a $100.00 non-refundable deposit is required. If you cancel with 48 hours of notice deposit transfers one time to another class/date of your choice. Second cancellation/no-show no refund. \nIf you encounter technical difficulties making a reservation please email us: instructor@txconcealedcarry.com \nClass is $250.00. A non-refundable deposit of $100.00 is required. Deposit can transfer to another date or class. Contact us to make a reservation. \nSecure checkout with Square. \n\nPay now
URL:https://ntxguntraining.com/class/shooting-from-concealment-low-light/
LOCATION:North Texas Gun Training Range\, 449 County Road 1220\, Cumby\, TX\, 75433\, United States
END:VEVENT
END:VCALENDAR